BEGIN:VCALENDAR
VERSION:2.0
PRODID:-//Untamed Fest - ECPv6.15.20//NONSGML v1.0//EN
CALSCALE:GREGORIAN
METHOD:PUBLISH
X-WR-CALNAME:Untamed Fest
X-ORIGINAL-URL:https://untamedfest.com
X-WR-CALDESC:Events for Untamed Fest
REFRESH-INTERVAL;VALUE=DURATION:PT1H
X-Robots-Tag:noindex
X-PUBLISHED-TTL:PT1H
BEGIN:VTIMEZONE
TZID:America/Denver
BEGIN:DAYLIGHT
TZOFFSETFROM:-0700
TZOFFSETTO:-0600
TZNAME:MDT
DTSTART:20230312T090000
END:DAYLIGHT
BEGIN:STANDARD
TZOFFSETFROM:-0600
TZOFFSETTO:-0700
TZNAME:MST
DTSTART:20231105T080000
END:STANDARD
BEGIN:DAYLIGHT
TZOFFSETFROM:-0700
TZOFFSETTO:-0600
TZNAME:MDT
DTSTART:20240310T090000
END:DAYLIGHT
BEGIN:STANDARD
TZOFFSETFROM:-0600
TZOFFSETTO:-0700
TZNAME:MST
DTSTART:20241103T080000
END:STANDARD
BEGIN:DAYLIGHT
TZOFFSETFROM:-0700
TZOFFSETTO:-0600
TZNAME:MDT
DTSTART:20250309T090000
END:DAYLIGHT
BEGIN:STANDARD
TZOFFSETFROM:-0600
TZOFFSETTO:-0700
TZNAME:MST
DTSTART:20251102T080000
END:STANDARD
BEGIN:DAYLIGHT
TZOFFSETFROM:-0700
TZOFFSETTO:-0600
TZNAME:MDT
DTSTART:20260308T090000
END:DAYLIGHT
BEGIN:STANDARD
TZOFFSETFROM:-0600
TZOFFSETTO:-0700
TZNAME:MST
DTSTART:20261101T080000
END:STANDARD
BEGIN:DAYLIGHT
TZOFFSETFROM:-0700
TZOFFSETTO:-0600
TZNAME:MDT
DTSTART:20270314T090000
END:DAYLIGHT
BEGIN:STANDARD
TZOFFSETFROM:-0600
TZOFFSETTO:-0700
TZNAME:MST
DTSTART:20271107T080000
END:STANDARD
END:VTIMEZONE
BEGIN:VEVENT
DTSTART;TZID=America/Denver:20260604T100000
DTEND;TZID=America/Denver:20260607T170000
DTSTAMP:20260423T183355
CREATED:20260129T170455Z
LAST-MODIFIED:20260325T144951Z
UID:5667-1780567200-1780851600@untamedfest.com
SUMMARY:Untamed Fest 2026!
DESCRIPTION:Building a stronger\, more diverse community through gathering in safe sacred space\, to give and gain\, in the interest of furthering each other’s spiritual growth! Untamed is long camping weekend off-grid in the Colorado mountains\, full of Pagan fellowship and blissful self-expression. There will be music\, vendors\, activities\, workshops\, rituals and more!\n\n\nJoin us for this amazing weekend of spiritual exploration and community building\n \n~ Something for the whole family! This includes a family camp\, special workshops for children and youth\, centers for teens & tweens\, and more! \n~ Many and varied workshops from Community Leaders and our Vendors! \n~ Powerful\, transformative rituals \n~ Live music! \n~ Sacred spaces for all people. \n~ Community leaders\, mentors\, teachers and more offering their services. \n~ Nightly drum circles. \n \n\n~ Pagan vendors selling sacred art\, jewelry\, festival and ritual garb\, magickal tools\, drums\, altar items\, candles\, soaps\, henna\, massage\, psychic readings\, tarot and other divination services. \n~ and so much more! \n  \n  \n\n\n\n\n\n\n\nImportant Things to Know First\n~ Untamed Fest is held at 8200 feet. It is important that you check with your health care provider before purchasing your ticket.  The CDC warns: If you plan to travel to an elevation higher than 8\,000 feet above sea level or higher\, you may be at risk for altitude illness\, which is caused by low oxygen levels in the air. People with pre-existing medical conditions should talk with a doctor before traveling to high elevation.\n~ People with heart or lung disease should talk to a doctor who is familiar with high-altitude medicine before their trip.\n~ People with diabetes need to be aware that their illness may be difficult to manage at high elevation.\n~ Pregnant women can make brief trips to high elevations but they should talk with their doctor because they may be advised not to sleep at elevations above 10\,000 feet.\n~ People with some illnesses (e.g.\, sickle cell anemia\, severe pulmonary hypertension) should not travel to high elevations under any circumstances.\n~ There will be NO internet or cell phone services on site.\n~ Once on site this is a cash only event.\n~ There are wild animals\, dogs\, and domesticated animals roaming on the property.\n~ There are no refunds for tickets. All sales are final.\n~ Rain\, shine\, snow\, this is an all weather event and only acts of the Gods and wild fire will cancel this event.\n~ All cars will be required to park in designated parking lots. \nCheck out our FAQ and What to Pack pages for more information \n\n\n\n\n\n\n\n\n\n\n\n\n\n\nJoin us as we gather for a long weekend celebrating all Pagan faiths!\nTicket Prices\n~Under 10 Free~ \nKids Ages 10-15 \nOne Day Pass: $20………………Two Day Pass: $30………………Full Weekend: $40 \nAt the Gate: $50 (full weekend) $35 (2 day) \nAdults 16 and up \nOne Day Pass: $50………………Two Day Pass: $90………………Full Weekend: $140 \nAt the Gate: $160 (full weekend) $100 (2 day) \nAdd RV Parking  \n@ The Hive : $50………………@Bottoms Out: $50………………In the Meadow: $40………………Specialty: $70 \nEarly Bird discounts end April 2nd\nPlease read the Liability waiver before purchasing your tickets\, there are no refunds.  We also ask that you print both the medical and liability forms and bring them with your ticket to the gate.\nTickets go on sale February 17th
URL:https://untamedfest.com/untamedtickets/2026/
LOCATION:Rustic Creek Ranch\, 29998 Redskin Creek Road\, Pine\, CO\, 80470\, United States
ATTACH;FMTTYPE=image/jpeg:https://untamedfest.com/wp-content/uploads/2026/01/Printed-Flyer-cropped.jpg
END:VEVENT
BEGIN:VEVENT
DTSTART;TZID=America/Denver:20260604T090000
DTEND;TZID=America/Denver:20260607T170000
DTSTAMP:20260423T183355
CREATED:20230122T161217Z
LAST-MODIFIED:20260119T193814Z
UID:2880-1780563600-1780851600@untamedfest.com
SUMMARY:Advertise with Untamed
DESCRIPTION:Untamed wants to help build community through connecting guests with Pagan goods and services sharing local business!\nOur advertising is set up into three options \nHang a Physical Banner at the event ~ $100\nWe will have a banner created with your logo and contact information that will be hung at one of the following locations: Info booth\, entry gate\, main stage\, and workshop Areas. \n1/4 Page add in our Program ~ $50\nShare your work\, services\, and more in our printed program \nOnline and Physical Ads ~ $75\nThis includes the above 1/4 page ad in our program as well as sharing that ad on our website and across social media\, reaching even more people! \nWant to get more? Become a Sponsor to get all this and more!
URL:https://untamedfest.com/untamedtickets/advertise-with-untamed/
LOCATION:Rustic Creek Ranch\, 29998 Redskin Creek Road\, Pine\, CO\, 80470\, United States
CATEGORIES:Community Festival
ATTACH;FMTTYPE=image/jpeg:https://untamedfest.com/wp-content/uploads/2023/01/ad-here.jpg
END:VEVENT
BEGIN:VEVENT
DTSTART;TZID=America/Denver:20260604T090000
DTEND;TZID=America/Denver:20260607T170000
DTSTAMP:20260423T183355
CREATED:20230122T160432Z
LAST-MODIFIED:20260119T194030Z
UID:2875-1780563600-1780851600@untamedfest.com
SUMMARY:Become a Sponsor
DESCRIPTION:Sponsors allow for Untamed to continue to grow\, ensuring this event is available to support the community and the people in it! This is also a great opportunity for business\, covens\, practitioners and more to advertise on the Untamed website\, social media\, and at Untamed. \nAs a sponsor you will received: \n\nA physical banner at the event at the entry booth\, info booth\, or main stage\n1/2 page ad in our program\nAd on our website homepage\nAnnouncements from the stage\nMention and share of ad across our social media.\n\nBecome a sponsor for only $200
URL:https://untamedfest.com/untamedtickets/become-a-sponsor/
LOCATION:Rustic Creek Ranch\, 29998 Redskin Creek Road\, Pine\, CO\, 80470\, United States
CATEGORIES:Community Festival
ATTACH;FMTTYPE=image/jpeg:https://untamedfest.com/wp-content/uploads/2023/01/sponsor.jpg
END:VEVENT
BEGIN:VEVENT
DTSTART;TZID=America/Denver:20250612T100000
DTEND;TZID=America/Denver:20250615T170000
DTSTAMP:20260423T183355
CREATED:20250106T162056Z
LAST-MODIFIED:20250607T154720Z
UID:4843-1749722400-1750006800@untamedfest.com
SUMMARY:Untamed Fest 2025 ~ Camping\, Communing\, and Spiritual Growth!
DESCRIPTION:Building a stronger\, more diverse community through gathering in safe sacred space\, to give and to gain\, in the interest of furthering each other’s spiritual growth! \n\nUntamed is long camping weekend in the Colorado mountains\, full of Pagan fellowship and blissful self-expression. There will be music\, vendors\, activities\, workshops\, rituals and more!\n\n \n Activities\n\nSomething for the whole family! This includes a family camp\, special workshops for children and youth\, centers for teens & tweens\, and more!\nMany and varied workshops from Community Leaders and our Vendors!\nPowerful\, transformative rituals\nLive music!\nSacred spaces for all people.\nPagan vendors selling sacred art\, jewelry\, festival and ritual garb\, magickal tools\, drums\, altar items\, candles\, soaps\, henna\, massage\, psychic readings\, tarot and other divination services.\nCommunity leaders\, mentors\, teachers and more offering their services.\nNightly drum circles.\nand so much more!\n\nJoin us for this amazing weekend of spiritual exploration and community building \n\n\n\n\n\n\n\n\nImportant Things to Know First\n\n\n\n\n\n\n\n\n\n\n\n\n\n\n\n\n\n\nUntamed Fest is held at 8200 feet. It is important that you check with your health care provider before purchasing your ticket.  The CDC warns: If you plan to travel to an elevation higher than 8\,000 feet above sea level or higher\, you may be at risk for altitude illness\, which is caused by low oxygen levels in the air. People with pre-existing medical conditions should talk with a doctor before traveling to high elevation.\n\nPeople with heart or lung disease should talk to a doctor who is familiar with high-altitude medicine before their trip.\nPeople with diabetes need to be aware that their illness may be difficult to manage at high elevation.\nPregnant women can make brief trips to high elevations but they should talk with their doctor because they may be advised not to sleep at elevations above 10\,000 feet.\nPeople with some illnesses (e.g.\, sickle cell anemia\, severe pulmonary hypertension) should not travel to high elevations under any circumstances.\n\n\nThere will be NO internet or cell phone services on site.\nOnce on site this is a cash only event.\nThere are wild animals\, dogs\, and domesticated animals roaming on the property.\nThere are no refunds for tickets. All sales are final.\nRain\, shine\, snow\, this is an all weather event and only acts of the Gods and wild fire will cancel this event.\nAll cars will be required to park in designated parking lots.\n\nCheck out our FAQ and What to Pack pages for more information\nJoin us as we gather for a long weekend celebrating all Pagan faiths! \nTicket Prices \n~Under 10 Free~ \nKids Ages 10-15\nSaturday Pass: $20………………Two Day Pass: $30………………Full Weekend: $40 \nAt the Gate: $50 (full weekend) $35 (2 day) \nAdults 16 and up\nSaturday Pass: $50………………Two Day Pass: $90………………Full Weekend: $140 \nAt the Gate: $160 (full weekend) $100 (2 day) \nRV Parking \nMain area: $50………………In the Meadow: $50………………Specialty: $70 \nEarly Bird discounts available \nPlease read the Liability waiver before purchasing your tickets\, there are no refunds.  We also ask that you print both the medical and liability forms and bring them with your ticket to the gate. \n\n\n\n\n\n\n\n\n\nTickets on Sale Now!\n\n\n\n\n\n\n\n\n\n\n\n\n\n\n\n\n\n\n\n\n\n\n\n\n\n\n\n\n \n\n\n\n \n\n\n\n \n\n\n\n \n\n\n\n \n\n\n\n 
URL:https://untamedfest.com/untamedtickets/untamed-fest-2025-camping-communing-and-spiritual-growth/
LOCATION:Rustic Creek Ranch\, 29998 Redskin Creek Road\, Pine\, CO\, 80470\, United States
CATEGORIES:Community Festival
END:VEVENT
BEGIN:VEVENT
DTSTART;TZID=America/Denver:20240530T090000
DTEND;TZID=America/Denver:20240602T170000
DTSTAMP:20260423T183355
CREATED:20240430T223141Z
LAST-MODIFIED:20240525T194128Z
UID:4466-1717059600-1717347600@untamedfest.com
SUMMARY:Untamed Fest 2024 ~ Camping\, Communing\, and Spiritual Growth!
DESCRIPTION:Building a stronger\, more diverse community through gathering in safe sacred space\, to give and to gain\, in the interest of furthering each other’s spiritual growth! \n\n\nUntamed is long camping weekend in the Colorado mountains\, full of Pagan fellowship and blissful self-expression. \nThere will be music\, vendors\, activities\, workshops\, rituals and more! \nActivities\n\nSomething for the whole family! This includes a family camp\, special workshops for children and youth\, centers for teens & tweens\, and more!\nMany and varied workshops from Community Leaders and our Vendors!\nPowerful\, transformative rituals\nLive music!\nSacred spaces for all people.\nPagan vendors selling sacred art\, jewelry\, festival and ritual garb\, magickal tools\, drums\, altar items\, candles\, soaps\, henna\, massage\, psychic readings\, tarot and other divination services.\nCommunity leaders\, mentors\, teachers and more offering their services.\nNightly drum circles.\nand so much more!\n\nJoin us for this amazing weekend of spiritual exploration and community building \n\n\n\n\n\n\n\n\nImportant Things to Know First\n\n\n\n\n\n\n\n\n\n\n\n\n\n\n\n\n\n\nUntamed Fest is held at 8200 feet. It is important that you check with your health care provider before purchasing your ticket.  The CDC warns: If you plan to travel to an elevation higher than 8\,000 feet above sea level or higher\, you may be at risk for altitude illness\, which is caused by low oxygen levels in the air. People with pre-existing medical conditions should talk with a doctor before traveling to high elevation.\n\nPeople with heart or lung disease should talk to a doctor who is familiar with high-altitude medicine before their trip.\nPeople with diabetes need to be aware that their illness may be difficult to manage at high elevation.\nPregnant women can make brief trips to high elevations but they should talk with their doctor because they may be advised not to sleep at elevations above 10\,000 feet.\nPeople with some illnesses (e.g.\, sickle cell anemia\, severe pulmonary hypertension) should not travel to high elevations under any circumstances.\n\n\nThere will be NO internet or cell phone services on site.\nOnce on site this is a cash only event.\nThere are wild animals\, dogs\, and domesticated animals roaming on the property.\nThere are no refunds for tickets. All sales are final.\nRain\, shine\, snow\, this is an all weather event and only acts of the Gods and wild fire will cancel this event.\nAll cars will be required to park in designated parking lots.\n\nCheck out our FAQ and What to Pack pages for more information\nJoin us as we gather for a long weekend celebrating all Pagan faiths! \nPlease read the Liability waiver before purchasing your tickets\, there are no refunds.  We also ask that you print both the medical and liability forms and bring them with your ticket to the gate. \n\n\n\n\n\n\n\n\n\nTicket Prices\nWe have lowered the prices to make this event more accessible to all \nOnline ticket sales ends May 25th \nFull Weekend\nYouth: $40  \nAdult: $135 \nTwo day (Saturday and Sunday only)\nYouth: $30 \nAdult: $85 \nChildren Under 10 are FREE!\n\n\n\n\n\n\n\n\n\nRV Parking\nRV parking is for any vehicle over 18 feet or if you need to camp with your vehicle.  There is no water\, electricity\, or dumping on site. \nThese are in designated spaces only: $40 ~ Limited space available \n\n\n\n\n\n\n\n\n\n\n\n\n\n\n\n\n\n\nAll ticket sales are final and non-refundable\n\n\n\n\n\n\n\n\n\nTickets at the Gate (CASH ONLY!)\nFull Weekend\nYouth: $50 \nAdult: $140 \nTwo day Tickets at the Gate (Saturday and Sunday only CASH ONLY!)\nYouth: $40 \nAdult: $90 \n\n\n\n\n\n\n\n\n\n\n\n\n\n\n\n\n\n\n \nDon’t forget your Untamed Gear!\n \nGet your Untamed 2024 t-shirt with your ticket and it will be at the gate waiting for you!\nFind size guide here \n\n\n\n\n\n\n\n\n\n\n\n\n\n\n\n\n\n\n\n\n\n\n\n\n\n\n \n\n\n\n \n\n\n\n \n\n\n\n \n\n\n\n \n\n\n\n 
URL:https://untamedfest.com/untamedtickets/untamed-fest-2024-camping-communing-and-spiritual-growth/
LOCATION:Rustic Creek Ranch\, 29998 Redskin Creek Road\, Pine\, CO\, 80470\, United States
CATEGORIES:Community Festival
ATTACH;FMTTYPE=image/jpeg:https://untamedfest.com/wp-content/uploads/2019/12/cropped-Untamed-blue-title-1.jpg
END:VEVENT
END:VCALENDAR